BEGIN:VCALENDAR
VERSION:2.0
PRODID:-//Tukios.com/
BEGIN:VEVENT
UID:1d3126bd-4542-4098-96d8-220f057ad884@www.gilbertfuneralhomeandcrematory.com
DTSTAMP:20260420T045248Z
DTSTART:20260604T140000Z
DTEND:20260604T150000Z
SUMMARY:Mass
DESCRIPTION:
URL:https://www.gilbertfuneralhomeandcrematory.com/obituaries/dr-edgar-cordero
LOCATION:Holy Child Church 212 Station Street   Bridgeville  PA 15017
GEO:40.3591711;-80.1158583
END:VEVENT
END:VCALENDAR