BEGIN:VCALENDAR
VERSION:2.0
PRODID:-//Tukios.com/
BEGIN:VEVENT
UID:afa89fc8-4662-47cb-bd22-5112f19d90bf@www.gilbertfuneralhomeandcrematory.com
DTSTAMP:20260422T225355Z
DTSTART:20260424T180000Z
DTEND:20260424T200000Z
SUMMARY:Visitation
DESCRIPTION:
URL:https://www.gilbertfuneralhomeandcrematory.com/obituaries/melinda-knapton
LOCATION: 6028 Smithfield Street  Boston PA 15135
GEO:40.3134645;-79.821255
END:VEVENT
END:VCALENDAR