BEGIN:VCALENDAR
VERSION:2.0
PRODID:-//Tukios.com/
BEGIN:VEVENT
UID:7e5ae68c-fba2-492d-90e1-51bd5a393590@www.gilbertfuneralhomeandcrematory.com
DTSTAMP:20260422T225212Z
DTSTART:20260424T220000Z
DTEND:20260425T000000Z
SUMMARY:Visitation
DESCRIPTION:
URL:https://www.gilbertfuneralhomeandcrematory.com/obituaries/melinda-knapton
LOCATION: 6028 Smithfield Street  Boston PA 15135
GEO:40.3134645;-79.821255
END:VEVENT
END:VCALENDAR