BEGIN:VCALENDAR
VERSION:2.0
PRODID:-//Tukios.com/
BEGIN:VEVENT
UID:f7a02c8f-1dc4-4912-bacc-96e79cbd4246@www.gilbertfuneralhomeandcrematory.com
DTSTAMP:20260422T225325Z
DTSTART:20260424T230000Z
DTEND:20260425T000000Z
SUMMARY:Funeral Service
DESCRIPTION:
URL:https://www.gilbertfuneralhomeandcrematory.com/obituaries/melinda-knapton
LOCATION: 6028 Smithfield Street  Boston PA 15135
GEO:40.3134645;-79.821255
END:VEVENT
END:VCALENDAR