BEGIN:VCALENDAR
VERSION:2.0
PRODID:-//Tukios.com/
BEGIN:VEVENT
UID:662b2808-c3a1-4044-a664-e075ffa84cf2@www.gilbertfuneralhomeandcrematory.com
DTSTAMP:20260423T225111Z
DTSTART:20260427T150000Z
DTEND:20260427T170000Z
SUMMARY:Visitation
DESCRIPTION:
URL:https://www.gilbertfuneralhomeandcrematory.com/obituaries/norma-winkler
LOCATION:Gilbert Funeral Home and Crematory 6028 Smithfield Street  
	Boston PA 15135
GEO:40.3134645;-79.821255
END:VEVENT
END:VCALENDAR