BEGIN:VCALENDAR
VERSION:2.0
PRODID:-//Tukios.com/
BEGIN:VEVENT
UID:0035ec2c-d8f4-45e8-85ed-1e101ed0ff9e@www.gilbertfuneralhomeandcrematory.com
DTSTAMP:20260423T224613Z
DTSTART:20260427T170000Z
DTEND:20260427T180000Z
SUMMARY:Funeral Service
DESCRIPTION:
URL:https://www.gilbertfuneralhomeandcrematory.com/obituaries/norma-winkler
LOCATION:Gilbert Funeral Home and Crematory 6028 Smithfield Street  
	Boston PA 15135
GEO:40.3134645;-79.821255
END:VEVENT
END:VCALENDAR