BEGIN:VCALENDAR
VERSION:2.0
PRODID:-//Tukios.com/
BEGIN:VEVENT
UID:d2965c6a-1d39-4eda-8673-087505a75b69@www.gilbertfuneralhomeandcrematory.com
DTSTAMP:20260421T193743Z
DTSTART:20260423T200000Z
DTEND:20260423T220000Z
SUMMARY:Visitation
DESCRIPTION:
URL:https://www.gilbertfuneralhomeandcrematory.com/obituaries/sheri-martini
LOCATION: 6028 Smithfield Street  Boston PA 15135
GEO:40.3134645;-79.821255
END:VEVENT
END:VCALENDAR